BEGIN:VCALENDAR
VERSION:2.0
METHOD:PUBLISH
PRODID:-//Telerik Inc.//Sitefinity CMS 12.2//EN
BEGIN:VTIMEZONE
TZID:Russian Standard Time
BEGIN:STANDARD
DTSTART;VALUE=DATE:20250101
TZNAME:Russia TZ 2 Standard Time
TZOFFSETFROM:+0300
TZOFFSETTO:+0300
END:STANDARD
END:VTIMEZONE
BEGIN:VEVENT
DESCRIPTION:Возраст: 6+Место: Площадка за корпусом БрусникаОсобенности:&nbs
 p\;Возможны изменения программы. Актуальное расписание опубликовано на экр
 анах корпуса "Факел" и "Брусника"
DTEND:20251028T120000Z
DTSTAMP:20260425T162505Z
DTSTART:20251028T110000Z
LOCATION:
SEQUENCE:0
SUMMARY:Игра "Вышибалы монстров"
UID:RFCALITEM639127419052682591
X-ALT-DESC;FMTTYPE=text/html:Возраст: 6+<br />Место: Площадка за корпусом Б
 русника<br />Особенности:&nbsp\;<br />Возможны изменения программы. Актуал
 ьное расписание опубликовано на экранах корпуса "Факел" и "Брусника"
END:VEVENT
END:VCALENDAR
